BEGIN:VCALENDAR
VERSION:2.0
PRODID:-//Manitoba School Boards Association - ECPv6.15.20//NONSGML v1.0//EN
CALSCALE:GREGORIAN
METHOD:PUBLISH
X-WR-CALNAME:Manitoba School Boards Association
X-ORIGINAL-URL:https://www.mbschoolboards.ca
X-WR-CALDESC:Events for Manitoba School Boards Association
REFRESH-INTERVAL;VALUE=DURATION:PT1H
X-Robots-Tag:noindex
X-PUBLISHED-TTL:PT1H
BEGIN:VTIMEZONE
TZID:America/Winnipeg
BEGIN:DAYLIGHT
TZOFFSETFROM:-0600
TZOFFSETTO:-0500
TZNAME:CDT
DTSTART:20250309T080000
END:DAYLIGHT
BEGIN:STANDARD
TZOFFSETFROM:-0500
TZOFFSETTO:-0600
TZNAME:CST
DTSTART:20251102T070000
END:STANDARD
BEGIN:DAYLIGHT
TZOFFSETFROM:-0600
TZOFFSETTO:-0500
TZNAME:CDT
DTSTART:20260308T080000
END:DAYLIGHT
BEGIN:STANDARD
TZOFFSETFROM:-0500
TZOFFSETTO:-0600
TZNAME:CST
DTSTART:20261101T070000
END:STANDARD
BEGIN:DAYLIGHT
TZOFFSETFROM:-0600
TZOFFSETTO:-0500
TZNAME:CDT
DTSTART:20270314T080000
END:DAYLIGHT
BEGIN:STANDARD
TZOFFSETFROM:-0500
TZOFFSETTO:-0600
TZNAME:CST
DTSTART:20271107T070000
END:STANDARD
END:VTIMEZONE
BEGIN:VEVENT
DTSTART;VALUE=DATE:20260308
DTEND;VALUE=DATE:20260309
DTSTAMP:20260421T032626
CREATED:20260113T195355Z
LAST-MODIFIED:20260113T213442Z
UID:10840-1772928000-1773014399@www.mbschoolboards.ca
SUMMARY:International Women's Day
DESCRIPTION:
URL:https://www.mbschoolboards.ca/event/international-womens-day-2/
LOCATION:Manitoba
CATEGORIES:Events
END:VEVENT
BEGIN:VEVENT
DTSTART;VALUE=DATE:20260308
DTEND;VALUE=DATE:20260309
DTSTAMP:20260421T032626
CREATED:20260113T202530Z
LAST-MODIFIED:20260113T213436Z
UID:10884-1772928000-1773014399@www.mbschoolboards.ca
SUMMARY:Daylight Saving Time
DESCRIPTION:Move clocks ahead one hour.
URL:https://www.mbschoolboards.ca/event/daylight-saving-time/
LOCATION:Manitoba
CATEGORIES:Events
END:VEVENT
BEGIN:VEVENT
DTSTART;VALUE=DATE:20260319
DTEND;VALUE=DATE:20260321
DTSTAMP:20260421T032626
CREATED:20250131T050838Z
LAST-MODIFIED:20250915T142431Z
UID:7552-1773878400-1774051199@www.mbschoolboards.ca
SUMMARY:MSBA Annual Convention
DESCRIPTION:
URL:https://www.mbschoolboards.ca/event/msba-annual-convention-2/
LOCATION:Delta Hotel\, Winnipeg\, 350 St. Mary Avenue\, Winnipeg\, Manitoba\, R3C 3J2\, Canada
CATEGORIES:Events,MSBA/Executive Events
END:VEVENT
BEGIN:VEVENT
DTSTART;VALUE=DATE:20260321
DTEND;VALUE=DATE:20260322
DTSTAMP:20260421T032626
CREATED:20250915T145335Z
LAST-MODIFIED:20250915T145335Z
UID:10171-1774051200-1774137599@www.mbschoolboards.ca
SUMMARY:World Down Syndrome Day
DESCRIPTION:World Down Syndrome Day is on 21 March every year. It is a global awareness day officially observed by the United Nations since 2012. The goal is to help people better understand and support those with Down syndrome. \nThe 21st day of March was chosen to represent the triplication (trisomy) of the 21st chromosome\, which causes Down syndrome.
URL:https://www.mbschoolboards.ca/event/world-down-syndrome-day-2/
LOCATION:Manitoba
CATEGORIES:Events
END:VEVENT
BEGIN:VEVENT
DTSTART;VALUE=DATE:20260321
DTEND;VALUE=DATE:20260322
DTSTAMP:20260421T032626
CREATED:20260113T200256Z
LAST-MODIFIED:20260113T213419Z
UID:10850-1774051200-1774137599@www.mbschoolboards.ca
SUMMARY:International Day for the Elimination of Racial Discrimination
DESCRIPTION:
URL:https://www.mbschoolboards.ca/event/international-day-for-the-elimination-of-racial-discrimination/
LOCATION:Manitoba
CATEGORIES:Events
END:VEVENT
BEGIN:VEVENT
DTSTART;VALUE=DATE:20260330
DTEND;VALUE=DATE:20260406
DTSTAMP:20260421T032626
CREATED:20240410T145342Z
LAST-MODIFIED:20250717T203418Z
UID:6222-1774828800-1775433599@www.mbschoolboards.ca
SUMMARY:Spring Break
DESCRIPTION:March 30\, 2026 to April 5\, 2026
URL:https://www.mbschoolboards.ca/event/spring-break-6/
LOCATION:Manitoba
CATEGORIES:Events
END:VEVENT
END:VCALENDAR