BEGIN:VCALENDAR
VERSION:2.0
PRODID:-//Manitoba School Boards Association - ECPv6.15.20//NONSGML v1.0//EN
CALSCALE:GREGORIAN
METHOD:PUBLISH
X-ORIGINAL-URL:https://www.mbschoolboards.ca
X-WR-CALDESC:Events for Manitoba School Boards Association
REFRESH-INTERVAL;VALUE=DURATION:PT1H
X-Robots-Tag:noindex
X-PUBLISHED-TTL:PT1H
BEGIN:VTIMEZONE
TZID:America/Winnipeg
BEGIN:DAYLIGHT
TZOFFSETFROM:-0600
TZOFFSETTO:-0500
TZNAME:CDT
DTSTART:20240310T080000
END:DAYLIGHT
BEGIN:STANDARD
TZOFFSETFROM:-0500
TZOFFSETTO:-0600
TZNAME:CST
DTSTART:20241103T070000
END:STANDARD
BEGIN:DAYLIGHT
TZOFFSETFROM:-0600
TZOFFSETTO:-0500
TZNAME:CDT
DTSTART:20250309T080000
END:DAYLIGHT
BEGIN:STANDARD
TZOFFSETFROM:-0500
TZOFFSETTO:-0600
TZNAME:CST
DTSTART:20251102T070000
END:STANDARD
BEGIN:DAYLIGHT
TZOFFSETFROM:-0600
TZOFFSETTO:-0500
TZNAME:CDT
DTSTART:20260308T080000
END:DAYLIGHT
BEGIN:STANDARD
TZOFFSETFROM:-0500
TZOFFSETTO:-0600
TZNAME:CST
DTSTART:20261101T070000
END:STANDARD
BEGIN:DAYLIGHT
TZOFFSETFROM:-0600
TZOFFSETTO:-0500
TZNAME:CDT
DTSTART:20270314T080000
END:DAYLIGHT
BEGIN:STANDARD
TZOFFSETFROM:-0500
TZOFFSETTO:-0600
TZNAME:CST
DTSTART:20271107T070000
END:STANDARD
END:VTIMEZONE
BEGIN:VEVENT
DTSTART;VALUE=DATE:20251224
DTEND;VALUE=DATE:20260102
DTSTAMP:20260421T051236
CREATED:20251128T202714Z
LAST-MODIFIED:20251128T202714Z
UID:10508-1766534400-1767311999@www.mbschoolboards.ca
SUMMARY:MSBA Office Holiday Closure
DESCRIPTION:Happy Holidays. The MSBA office will be closed from December 24 to January 1\, and will reopen on January 2.
URL:https://www.mbschoolboards.ca/event/msba-office-holiday-closure/
LOCATION:Manitoba
CATEGORIES:Holidays/Office Closed
END:VEVENT
BEGIN:VEVENT
DTSTART;VALUE=DATE:20260101
DTEND;VALUE=DATE:20260102
DTSTAMP:20260421T051236
CREATED:20251128T202213Z
LAST-MODIFIED:20251128T202223Z
UID:10505-1767225600-1767311999@www.mbschoolboards.ca
SUMMARY:New Year's Day
DESCRIPTION:Happy New Year!
URL:https://www.mbschoolboards.ca/event/new-years-day-2/
LOCATION:Manitoba
CATEGORIES:Holidays/Office Closed
END:VEVENT
BEGIN:VEVENT
DTSTART;TZID=America/Winnipeg:20260120T130000
DTEND;TZID=America/Winnipeg:20260120T140000
DTSTAMP:20260421T051236
CREATED:20250916T161654Z
LAST-MODIFIED:20260113T213601Z
UID:10180-1768914000-1768917600@www.mbschoolboards.ca
SUMMARY:Manitoba Accessibility Webinar
DESCRIPTION:The Manitoba Accessibility Office and the Accessibility Compliance Secretariat are offering some exciting training opportunities. Register to learn more about a wide variety of topics relating to accessibility in Manitoba: \nAccessibility Compliance: Understand the Role and Responsibilities of the Accessibility Compliance Secretariat \nLearn about the Accessibility Compliance Secretariat’s role in advancing Manitoba’s accessibility laws forward. Any organization with obligations under The Accessibility for Manitobans Act will benefit from attending this webinar. You will hear about the secretariat’s role and responsibilities and discover how its staff work with organizations to remove barriers\, so Manitobans with disabilities can participate equally in fundamental aspects of daily life. \nWebinar Details: \n\nDate: January 20\, 2026\nTime: 1 p.m. to 2 p.m.\nWhere: Virtual via Zoom\n\nRegister to Attend
URL:https://www.mbschoolboards.ca/event/manitoba-accessibility-webinar-2/
LOCATION:Manitoba
CATEGORIES:Events
END:VEVENT
BEGIN:VEVENT
DTSTART;VALUE=DATE:20260124
DTEND;VALUE=DATE:20260125
DTSTAMP:20260421T051236
CREATED:20260113T212036Z
LAST-MODIFIED:20260113T213536Z
UID:10908-1769212800-1769299199@www.mbschoolboards.ca
SUMMARY:International Day of Education
DESCRIPTION:Youth make up more than half of the global population and are a powerful engine for innovation\, social change and sustainable development. Yet many still face persistent barriers that hold them back from shaping the future they want — from poverty and inequality to limited access to quality education and decent work. \nBecause their lives and opportunities are directly shaped by education\, young people must be active partners in reimagining how learning works. As technology continues to transform the world\, involving youth in co creating modern\, relevant and inclusive education systems is essential to ensure teaching and learning truly meet their aspirations. Learn how you can join the International Day of Education 2026. \nFind out more on UNESCO’s website.
URL:https://www.mbschoolboards.ca/event/international-day-of-education/
LOCATION:Manitoba
CATEGORIES:Events
END:VEVENT
BEGIN:VEVENT
DTSTART;VALUE=DATE:20260127
DTEND;VALUE=DATE:20260128
DTSTAMP:20260421T051236
CREATED:20260113T194859Z
LAST-MODIFIED:20260113T213529Z
UID:10836-1769472000-1769558399@www.mbschoolboards.ca
SUMMARY:International Holocaust Remembrance Day
DESCRIPTION:
URL:https://www.mbschoolboards.ca/event/international-holocaust-remembrance-day/
LOCATION:Manitoba
CATEGORIES:Events
END:VEVENT
END:VCALENDAR