BEGIN:VCALENDAR
VERSION:2.0
PRODID:-//Manitoba School Boards Association - ECPv6.15.20//NONSGML v1.0//EN
CALSCALE:GREGORIAN
METHOD:PUBLISH
X-WR-CALNAME:Manitoba School Boards Association
X-ORIGINAL-URL:https://www.mbschoolboards.ca
X-WR-CALDESC:Events for Manitoba School Boards Association
REFRESH-INTERVAL;VALUE=DURATION:PT1H
X-Robots-Tag:noindex
X-PUBLISHED-TTL:PT1H
BEGIN:VTIMEZONE
TZID:America/Winnipeg
BEGIN:DAYLIGHT
TZOFFSETFROM:-0600
TZOFFSETTO:-0500
TZNAME:CDT
DTSTART:20240310T080000
END:DAYLIGHT
BEGIN:STANDARD
TZOFFSETFROM:-0500
TZOFFSETTO:-0600
TZNAME:CST
DTSTART:20241103T070000
END:STANDARD
BEGIN:DAYLIGHT
TZOFFSETFROM:-0600
TZOFFSETTO:-0500
TZNAME:CDT
DTSTART:20250309T080000
END:DAYLIGHT
BEGIN:STANDARD
TZOFFSETFROM:-0500
TZOFFSETTO:-0600
TZNAME:CST
DTSTART:20251102T070000
END:STANDARD
BEGIN:DAYLIGHT
TZOFFSETFROM:-0600
TZOFFSETTO:-0500
TZNAME:CDT
DTSTART:20260308T080000
END:DAYLIGHT
BEGIN:STANDARD
TZOFFSETFROM:-0500
TZOFFSETTO:-0600
TZNAME:CST
DTSTART:20261101T070000
END:STANDARD
BEGIN:DAYLIGHT
TZOFFSETFROM:-0600
TZOFFSETTO:-0500
TZNAME:CDT
DTSTART:20270314T080000
END:DAYLIGHT
BEGIN:STANDARD
TZOFFSETFROM:-0500
TZOFFSETTO:-0600
TZNAME:CST
DTSTART:20271107T070000
END:STANDARD
END:VTIMEZONE
BEGIN:VEVENT
DTSTART;VALUE=DATE:20251203
DTEND;VALUE=DATE:20251204
DTSTAMP:20260421T065526
CREATED:20251128T201446Z
LAST-MODIFIED:20251128T201550Z
UID:10500-1764720000-1764806399@www.mbschoolboards.ca
SUMMARY:International Day of Persons with Disabilities
DESCRIPTION:International Day of Persons with Disabilities (IDPD) is a celebration held annually on December 3. Proclaimed in 1992\, by The United Nations General Assembly\, the International Day of Persons with Disabilities promotes an understanding of disability issues and calls for supporting the dignity\, rights and well-being of persons with disabilities. \nEach year\, Manitobans join people across the world in promoting the rights and well-being of people with disabilities in every aspect of life\, including political\, social\, economic and cultural. \nLearn more
URL:https://www.mbschoolboards.ca/event/international-day-of-persons-with-disabilities/
LOCATION:Manitoba
CATEGORIES:Events
END:VEVENT
BEGIN:VEVENT
DTSTART;VALUE=DATE:20251210
DTEND;VALUE=DATE:20251211
DTSTAMP:20260421T065526
CREATED:20251128T202026Z
LAST-MODIFIED:20251128T202026Z
UID:10503-1765324800-1765411199@www.mbschoolboards.ca
SUMMARY:Human Rights Day
DESCRIPTION:Human Rights Day 2025 will be observed on December 10\, 2025\, to commemorate the adoption of the Universal Declaration of Human Rights by the UN General Assembly in 1948. The 2025 theme is “Human Rights\, Our Everyday Essentials\,” which highlights how human rights are essential and impact daily life. Learn more: https://www.un.org/en/observances/human-rights-day.
URL:https://www.mbschoolboards.ca/event/human-rights-day/
LOCATION:Manitoba
CATEGORIES:Events
END:VEVENT
BEGIN:VEVENT
DTSTART;VALUE=DATE:20251224
DTEND;VALUE=DATE:20260102
DTSTAMP:20260421T065526
CREATED:20251128T202714Z
LAST-MODIFIED:20251128T202714Z
UID:10508-1766534400-1767311999@www.mbschoolboards.ca
SUMMARY:MSBA Office Holiday Closure
DESCRIPTION:Happy Holidays. The MSBA office will be closed from December 24 to January 1\, and will reopen on January 2.
URL:https://www.mbschoolboards.ca/event/msba-office-holiday-closure/
LOCATION:Manitoba
CATEGORIES:Holidays/Office Closed
END:VEVENT
BEGIN:VEVENT
DTSTART;VALUE=DATE:20251225
DTEND;VALUE=DATE:20251226
DTSTAMP:20260421T065526
CREATED:20241121T200349Z
LAST-MODIFIED:20250103T140613Z
UID:7084-1766620800-1766707199@www.mbschoolboards.ca
SUMMARY:Christmas Day
DESCRIPTION:
URL:https://www.mbschoolboards.ca/event/christmas-day/
LOCATION:Manitoba
CATEGORIES:Holidays/Office Closed
END:VEVENT
BEGIN:VEVENT
DTSTART;VALUE=DATE:20251226
DTEND;VALUE=DATE:20251227
DTSTAMP:20260421T065526
CREATED:20241121T200418Z
LAST-MODIFIED:20241121T200418Z
UID:7086-1766707200-1766793599@www.mbschoolboards.ca
SUMMARY:Boxing Day
DESCRIPTION:
URL:https://www.mbschoolboards.ca/event/boxing-day/
LOCATION:Manitoba
CATEGORIES:Holidays/Office Closed
END:VEVENT
END:VCALENDAR