BEGIN:VCALENDAR
VERSION:2.0
PRODID:-//Manitoba School Boards Association - ECPv6.15.20//NONSGML v1.0//EN
CALSCALE:GREGORIAN
METHOD:PUBLISH
X-WR-CALNAME:Manitoba School Boards Association
X-ORIGINAL-URL:https://www.mbschoolboards.ca
X-WR-CALDESC:Events for Manitoba School Boards Association
REFRESH-INTERVAL;VALUE=DURATION:PT1H
X-Robots-Tag:noindex
X-PUBLISHED-TTL:PT1H
BEGIN:VTIMEZONE
TZID:America/Winnipeg
BEGIN:DAYLIGHT
TZOFFSETFROM:-0600
TZOFFSETTO:-0500
TZNAME:CDT
DTSTART:20240310T080000
END:DAYLIGHT
BEGIN:STANDARD
TZOFFSETFROM:-0500
TZOFFSETTO:-0600
TZNAME:CST
DTSTART:20241103T070000
END:STANDARD
BEGIN:DAYLIGHT
TZOFFSETFROM:-0600
TZOFFSETTO:-0500
TZNAME:CDT
DTSTART:20250309T080000
END:DAYLIGHT
BEGIN:STANDARD
TZOFFSETFROM:-0500
TZOFFSETTO:-0600
TZNAME:CST
DTSTART:20251102T070000
END:STANDARD
BEGIN:DAYLIGHT
TZOFFSETFROM:-0600
TZOFFSETTO:-0500
TZNAME:CDT
DTSTART:20260308T080000
END:DAYLIGHT
BEGIN:STANDARD
TZOFFSETFROM:-0500
TZOFFSETTO:-0600
TZNAME:CST
DTSTART:20261101T070000
END:STANDARD
END:VTIMEZONE
BEGIN:VEVENT
DTSTART;VALUE=DATE:20250308
DTEND;VALUE=DATE:20250309
DTSTAMP:20260421T213123
CREATED:20250103T135719Z
LAST-MODIFIED:20250103T135719Z
UID:7373-1741392000-1741478399@www.mbschoolboards.ca
SUMMARY:International Women's Day
DESCRIPTION:March 8 is International Women’s Day. It’s a global day to recognize and celebrate women’s and girls’ social\, economic\, cultural\, and political achievements. It’s also a time to raise awareness of the progress made towards achieving gender equality and the work remaining to be done.
URL:https://www.mbschoolboards.ca/event/international-womens-day/
LOCATION:Manitoba
CATEGORIES:Events
END:VEVENT
BEGIN:VEVENT
DTSTART;VALUE=DATE:20250317
DTEND;VALUE=DATE:20250318
DTSTAMP:20260421T213123
CREATED:20240711T132829Z
LAST-MODIFIED:20240711T132829Z
UID:6508-1742169600-1742255999@www.mbschoolboards.ca
SUMMARY:Stone Soup Week
DESCRIPTION:Every year in March\, the Stone Soup folktale is recreated as the Child Nutrition Council of Manitoba brings the community together to enjoy a warm bowl of soup\, while raising funds and awareness for school meal programs across Manitoba! \nStone Soup Week will take place Monday\, March 17 through Sunday March 23\, 2025.
URL:https://www.mbschoolboards.ca/event/stone-soup-week/
LOCATION:Manitoba
CATEGORIES:Events
END:VEVENT
BEGIN:VEVENT
DTSTART;VALUE=DATE:20250321
DTEND;VALUE=DATE:20250322
DTSTAMP:20260421T213123
CREATED:20250227T190042Z
LAST-MODIFIED:20250227T190042Z
UID:8184-1742515200-1742601599@www.mbschoolboards.ca
SUMMARY:World Down Syndrome Day
DESCRIPTION:World Down Syndrome Day is on 21 March every year. It is a global awareness day officially observed by the United Nations since 2012. The goal is to help people better understand and support those with Down syndrome. \nThe 21st day of the third month was chosen to represent the triplication (trisomy) of the 21st chromosome\, which causes Down syndrome.
URL:https://www.mbschoolboards.ca/event/world-down-syndrome-day/
LOCATION:Manitoba
CATEGORIES:Events
END:VEVENT
BEGIN:VEVENT
DTSTART;VALUE=DATE:20250331
DTEND;VALUE=DATE:20250401
DTSTAMP:20260421T213123
CREATED:20250103T135950Z
LAST-MODIFIED:20250103T135950Z
UID:7377-1743379200-1743465599@www.mbschoolboards.ca
SUMMARY:National Indigenous Languages Day
DESCRIPTION:National Indigenous Languages Day is an opportunity to honour the rich linguistic heritage of First Nations\, Inuit and Métis across Canada. This day is a profound reminder of the importance of Indigenous languages and the critical role they play in preserving the history\, culture and identity of Indigenous communities.
URL:https://www.mbschoolboards.ca/event/national-indigenous-languages-day/
LOCATION:Manitoba
CATEGORIES:Events
END:VEVENT
END:VCALENDAR