BEGIN:VCALENDAR
VERSION:2.0
PRODID:-//Manitoba School Boards Association - ECPv6.15.20//NONSGML v1.0//EN
CALSCALE:GREGORIAN
METHOD:PUBLISH
X-WR-CALNAME:Manitoba School Boards Association
X-ORIGINAL-URL:https://www.mbschoolboards.ca
X-WR-CALDESC:Events for Manitoba School Boards Association
REFRESH-INTERVAL;VALUE=DURATION:PT1H
X-Robots-Tag:noindex
X-PUBLISHED-TTL:PT1H
BEGIN:VTIMEZONE
TZID:America/Winnipeg
BEGIN:DAYLIGHT
TZOFFSETFROM:-0600
TZOFFSETTO:-0500
TZNAME:CDT
DTSTART:20240310T080000
END:DAYLIGHT
BEGIN:STANDARD
TZOFFSETFROM:-0500
TZOFFSETTO:-0600
TZNAME:CST
DTSTART:20241103T070000
END:STANDARD
BEGIN:DAYLIGHT
TZOFFSETFROM:-0600
TZOFFSETTO:-0500
TZNAME:CDT
DTSTART:20250309T080000
END:DAYLIGHT
BEGIN:STANDARD
TZOFFSETFROM:-0500
TZOFFSETTO:-0600
TZNAME:CST
DTSTART:20251102T070000
END:STANDARD
BEGIN:DAYLIGHT
TZOFFSETFROM:-0600
TZOFFSETTO:-0500
TZNAME:CDT
DTSTART:20260308T080000
END:DAYLIGHT
BEGIN:STANDARD
TZOFFSETFROM:-0500
TZOFFSETTO:-0600
TZNAME:CST
DTSTART:20261101T070000
END:STANDARD
END:VTIMEZONE
BEGIN:VEVENT
DTSTART;VALUE=DATE:20250101
DTEND;VALUE=DATE:20250102
DTSTAMP:20260421T232545
CREATED:20241121T162629Z
LAST-MODIFIED:20241121T162629Z
UID:7062-1735689600-1735775999@www.mbschoolboards.ca
SUMMARY:New Year's Day
DESCRIPTION:
URL:https://www.mbschoolboards.ca/event/new-years-day/
LOCATION:Manitoba
CATEGORIES:Holidays/Office Closed
END:VEVENT
BEGIN:VEVENT
DTSTART;VALUE=DATE:20250106
DTEND;VALUE=DATE:20250107
DTSTAMP:20260421T232546
CREATED:20241119T214652Z
LAST-MODIFIED:20241119T214652Z
UID:7022-1736121600-1736207999@www.mbschoolboards.ca
SUMMARY:Winter Break Ends
DESCRIPTION:Classes resume after Winter Break
URL:https://www.mbschoolboards.ca/event/winter-break-ends/
LOCATION:Manitoba
CATEGORIES:Events
END:VEVENT
END:VCALENDAR