BEGIN:VCALENDAR
VERSION:2.0
PRODID:-//Manitoba School Boards Association - ECPv6.15.20//NONSGML v1.0//EN
CALSCALE:GREGORIAN
METHOD:PUBLISH
X-WR-CALNAME:Manitoba School Boards Association
X-ORIGINAL-URL:https://www.mbschoolboards.ca
X-WR-CALDESC:Events for Manitoba School Boards Association
REFRESH-INTERVAL;VALUE=DURATION:PT1H
X-Robots-Tag:noindex
X-PUBLISHED-TTL:PT1H
BEGIN:VTIMEZONE
TZID:America/Winnipeg
BEGIN:DAYLIGHT
TZOFFSETFROM:-0600
TZOFFSETTO:-0500
TZNAME:CDT
DTSTART:20210314T080000
END:DAYLIGHT
BEGIN:STANDARD
TZOFFSETFROM:-0500
TZOFFSETTO:-0600
TZNAME:CST
DTSTART:20211107T070000
END:STANDARD
BEGIN:DAYLIGHT
TZOFFSETFROM:-0600
TZOFFSETTO:-0500
TZNAME:CDT
DTSTART:20220313T080000
END:DAYLIGHT
BEGIN:STANDARD
TZOFFSETFROM:-0500
TZOFFSETTO:-0600
TZNAME:CST
DTSTART:20221106T070000
END:STANDARD
BEGIN:DAYLIGHT
TZOFFSETFROM:-0600
TZOFFSETTO:-0500
TZNAME:CDT
DTSTART:20230312T080000
END:DAYLIGHT
BEGIN:STANDARD
TZOFFSETFROM:-0500
TZOFFSETTO:-0600
TZNAME:CST
DTSTART:20231105T070000
END:STANDARD
BEGIN:DAYLIGHT
TZOFFSETFROM:-0600
TZOFFSETTO:-0500
TZNAME:CDT
DTSTART:20240310T080000
END:DAYLIGHT
BEGIN:STANDARD
TZOFFSETFROM:-0500
TZOFFSETTO:-0600
TZNAME:CST
DTSTART:20241103T070000
END:STANDARD
BEGIN:DAYLIGHT
TZOFFSETFROM:-0600
TZOFFSETTO:-0500
TZNAME:CDT
DTSTART:20250309T080000
END:DAYLIGHT
BEGIN:STANDARD
TZOFFSETFROM:-0500
TZOFFSETTO:-0600
TZNAME:CST
DTSTART:20251102T070000
END:STANDARD
END:VTIMEZONE
BEGIN:VEVENT
DTSTART;VALUE=DATE:20241220
DTEND;VALUE=DATE:20241221
DTSTAMP:20260419T231941
CREATED:20241119T214542Z
LAST-MODIFIED:20241217T174209Z
UID:7017-1734652800-1734739199@www.mbschoolboards.ca
SUMMARY:Last Day of Classes before the Winter Break
DESCRIPTION:Last day of classes before Winter Break.
URL:https://www.mbschoolboards.ca/event/winter-break/
LOCATION:Manitoba
CATEGORIES:Events
END:VEVENT
BEGIN:VEVENT
DTSTART;VALUE=DATE:20241210
DTEND;VALUE=DATE:20241211
DTSTAMP:20260419T231941
CREATED:20241121T151246Z
LAST-MODIFIED:20241121T152045Z
UID:7051-1733788800-1733875199@www.mbschoolboards.ca
SUMMARY:Human Rights Day 2024
DESCRIPTION:2024 Theme: Our Rights\, Our Future\, Right Now \nThis year’s theme is a call to acknowledge the importance and relevance of human rights in our everyday lives. We have an opportunity to change perceptions by speaking up against hate speech\, correcting misinformation and countering disinformation. This is the time to mobilize action to reinvigorate a global movement for human rights. \nHuman Rights Day is observed annually around the world on 10 December. It commemorates the anniversary of one of the world’s most groundbreaking global pledges: the Universal Declaration of Human Rights (UDHR). This landmark document enshrines the inalienable rights that everyone is entitled to as a human being – regardless of race\, colour\, religion\, sex\, language\, political or other opinion\, national or social origin\, property\, birth or other status.
URL:https://www.mbschoolboards.ca/event/human-rights-day-2024/
LOCATION:Manitoba
CATEGORIES:Events
END:VEVENT
BEGIN:VEVENT
DTSTART;VALUE=DATE:20241206
DTEND;VALUE=DATE:20241207
DTSTAMP:20260419T231941
CREATED:20241121T151900Z
LAST-MODIFIED:20241121T151900Z
UID:7053-1733443200-1733529599@www.mbschoolboards.ca
SUMMARY:National Day of Remembrance and Action on Violence Against Women
DESCRIPTION:The National Day of Remembrance and Action on Violence Against Women is about remembering those who have experienced gender-based violence and those who we have lost to it. It is also a time to take action. Achieving a Canada free from gender-based violence requires everyone living in this country to educate themselves and their families and communities on gender-based violence\, centre the voices of survivors in our actions and speak up against harmful behaviours.
URL:https://www.mbschoolboards.ca/event/national-day-of-remembrance-and-action-on-violence-against-women/
LOCATION:Manitoba
CATEGORIES:Events
END:VEVENT
BEGIN:VEVENT
DTSTART;VALUE=DATE:20241203
DTEND;VALUE=DATE:20241204
DTSTAMP:20260419T231941
CREATED:20241121T161050Z
LAST-MODIFIED:20241121T161050Z
UID:7059-1733184000-1733270399@www.mbschoolboards.ca
SUMMARY:International Day Of Persons With Disabilities (IDPD)
DESCRIPTION:The International Day of Persons with Disabilities (IDPD) is observed annually on December 3rd. The theme for this year is “Amplifying the leadership of persons with disabilities for an inclusive and sustainable future.” This theme recognizes the important role that persons with disabilities play in creating a more inclusive and sustainable world for all. It also emphasizes the importance of the participation of persons with disabilities in decision-making processes that affect their lives.     \nThe theme this year reflects the current international political and policy context\, in particular the Pact for the Future and the upcoming 2025 World Summit for Social Development\, and the need to create momentum for achieving the 2030 Agenda. The theme seeks to amplify the centrality of the leadership role of persons with disabilities\, in all of these efforts – from the global to the local.
URL:https://www.mbschoolboards.ca/event/international-day-of-persons-with-disabilities-idpd/
LOCATION:Manitoba
CATEGORIES:Events
END:VEVENT
BEGIN:VEVENT
DTSTART;VALUE=DATE:20241129
DTEND;VALUE=DATE:20241130
DTSTAMP:20260419T231941
CREATED:20241017T131457Z
LAST-MODIFIED:20241017T131457Z
UID:6838-1732838400-1732924799@www.mbschoolboards.ca
SUMMARY:2025 Indigenous Education Gathering - Call for Presentations/Student Panel Participants Deadline
DESCRIPTION:Submission deadline is November 29\, 2024. You will be notified by December 18 if you have been selected to present. \nThe Manitoba Collaborative Indigenous Education Blueprint partners are excited to announce the dates for the 2025 Indigenous Education Gathering. Mark your calendars: February 6 & 7\, 2025 at the Victoria Inn Hotel and Convention Centre\, 1808 Wellington Avenue.
URL:https://www.mbschoolboards.ca/event/2025-indigenous-education-gathering-call-for-presentations-student-panel-participants-deadline/
LOCATION:Delta Hotel\, Winnipeg\, 350 St. Mary Avenue\, Winnipeg\, Manitoba\, R3C 3J2\, Canada
CATEGORIES:Events
END:VEVENT
BEGIN:VEVENT
DTSTART;VALUE=DATE:20241124
DTEND;VALUE=DATE:20241125
DTSTAMP:20260419T231941
CREATED:20241113T161824Z
LAST-MODIFIED:20241113T161824Z
UID:6956-1732406400-1732492799@www.mbschoolboards.ca
SUMMARY:Manitoba Substance Use and Addictions Awareness Week
DESCRIPTION:Manitoba Substance Use and Addictions Awareness Week runs from Nov. 24-30 and the theme for 2024 is Forging Connections. \nEvery year\, Manitoba Substance Use and Addictions Awareness Week provides an opportunity for Manitobans from all walks of life to engage in meaningful discussions and explore solutions for addressing the harms caused by substance use and addictions.
URL:https://www.mbschoolboards.ca/event/manitoba-substance-use-and-addictions-awareness-week/
LOCATION:Manitoba
END:VEVENT
BEGIN:VEVENT
DTSTART;TZID=America/Winnipeg:20241120T170000
DTEND;TZID=America/Winnipeg:20241120T223000
DTSTAMP:20260419T231941
CREATED:20240711T132534Z
LAST-MODIFIED:20240711T132534Z
UID:6506-1732122000-1732141800@www.mbschoolboards.ca
SUMMARY:Manitoba Indigenous Youth Achievement Awards Gala
DESCRIPTION:The Manitoba Indigenous Youth Achievement Awards celebrates outstanding Indigenous youth who have received awards for achievement in a variety of fields from Academics to Traditional Employment to Entrepreneurship. Since the awards ceremony began in 1994\, over 300 youth/individuals have received a Manitoba Indigenous Youth Achievement Award for their accomplishments.
URL:https://www.mbschoolboards.ca/event/manitoba-indigenous-youth-achievement-awards-gala/
LOCATION:Delta Hotel\, Winnipeg\, 350 St. Mary Avenue\, Winnipeg\, Manitoba\, R3C 3J2\, Canada
CATEGORIES:Events
END:VEVENT
BEGIN:VEVENT
DTSTART;VALUE=DATE:20241111
DTEND;VALUE=DATE:20241112
DTSTAMP:20260419T231941
CREATED:20241121T193323Z
LAST-MODIFIED:20241121T193323Z
UID:7068-1731283200-1731369599@www.mbschoolboards.ca
SUMMARY:Remembrance Day
DESCRIPTION:
URL:https://www.mbschoolboards.ca/event/remembrance-day/
LOCATION:Manitoba
CATEGORIES:Holidays/Office Closed
END:VEVENT
BEGIN:VEVENT
DTSTART;VALUE=DATE:20241103
DTEND;VALUE=DATE:20241104
DTSTAMP:20260419T231941
CREATED:20240223T175230Z
LAST-MODIFIED:20240223T175230Z
UID:5974-1730592000-1730678399@www.mbschoolboards.ca
SUMMARY:Daylight Savings Time Ends
DESCRIPTION:
URL:https://www.mbschoolboards.ca/event/daylight-savings-time-ends/
LOCATION:Manitoba
CATEGORIES:Events
END:VEVENT
BEGIN:VEVENT
DTSTART;VALUE=DATE:20240902
DTEND;VALUE=DATE:20240903
DTSTAMP:20260419T231941
CREATED:20240223T174926Z
LAST-MODIFIED:20240223T174926Z
UID:5967-1725235200-1725321599@www.mbschoolboards.ca
SUMMARY:Labour Day
DESCRIPTION:
URL:https://www.mbschoolboards.ca/event/labour-day-3/
LOCATION:Manitoba
CATEGORIES:Holidays/Office Closed
END:VEVENT
BEGIN:VEVENT
DTSTART;VALUE=DATE:20240805
DTEND;VALUE=DATE:20240806
DTSTAMP:20260419T231941
CREATED:20240208T203244Z
LAST-MODIFIED:20240208T203412Z
UID:5921-1722816000-1722902399@www.mbschoolboards.ca
SUMMARY:Terry Fox Day
DESCRIPTION:
URL:https://www.mbschoolboards.ca/event/civic-holiday-2/
LOCATION:Manitoba
CATEGORIES:Holidays/Office Closed
END:VEVENT
BEGIN:VEVENT
DTSTART;VALUE=DATE:20240701
DTEND;VALUE=DATE:20240702
DTSTAMP:20260419T231941
CREATED:20240208T203134Z
LAST-MODIFIED:20240208T203134Z
UID:5919-1719792000-1719878399@www.mbschoolboards.ca
SUMMARY:Canada Day
DESCRIPTION:
URL:https://www.mbschoolboards.ca/event/canada-day-3/
LOCATION:Manitoba
CATEGORIES:Holidays/Office Closed
END:VEVENT
BEGIN:VEVENT
DTSTART;VALUE=DATE:20240621
DTEND;VALUE=DATE:20240622
DTSTAMP:20260419T231941
CREATED:20240208T202805Z
LAST-MODIFIED:20240208T203039Z
UID:5913-1718928000-1719014399@www.mbschoolboards.ca
SUMMARY:National Indigenous Peoples Day
DESCRIPTION:National Aboriginal Day\, now National Indigenous Peoples Day\, was announced in 1996 by then Governor General of Canada\, Roméo LeBlanc\, through the Proclamation Declaring June 21 of Each Year as National Aboriginal Day.
URL:https://www.mbschoolboards.ca/event/national-indigenous-peoples-day-3/
LOCATION:Manitoba
CATEGORIES:Events
END:VEVENT
BEGIN:VEVENT
DTSTART;VALUE=DATE:20240601
DTEND;VALUE=DATE:20240602
DTSTAMP:20260419T231941
CREATED:20240208T202918Z
LAST-MODIFIED:20240208T202934Z
UID:5916-1717200000-1717286399@www.mbschoolboards.ca
SUMMARY:National Indigenous History Month
DESCRIPTION:June is National Indigenous History Month in Canada\, an opportunity to learn about the unique cultures\, traditions and experiences of First Nations\, Inuit and Métis. It’s a time to honour the stories\, achievements and resilience of Indigenous Peoples\, who have lived on this land since time immemorial and whose presence continues to impact the evolving Canada
URL:https://www.mbschoolboards.ca/event/national-indigenous-history-month/
LOCATION:Manitoba
CATEGORIES:Events
END:VEVENT
BEGIN:VEVENT
DTSTART;VALUE=DATE:20240531
DTEND;VALUE=DATE:20240601
DTSTAMP:20260419T231941
CREATED:20240502T133129Z
LAST-MODIFIED:20240502T133129Z
UID:6313-1717113600-1717199999@www.mbschoolboards.ca
SUMMARY:World No Tobacco Day
DESCRIPTION:World No Tobacco Day 2024 will give a platform to young people across the world\, who are calling for the tobacco industry to stop targeting them with products that are harmful to their health. Young people globally are calling on governments to adopt policies that shield them from the manipulative practices of tobacco and related industries\, including the relentless marketing of their dangerous products through social media and streaming platforms
URL:https://www.mbschoolboards.ca/event/world-no-tobacco-day-2/
LOCATION:Manitoba
CATEGORIES:Events
END:VEVENT
BEGIN:VEVENT
DTSTART;TZID=America/Winnipeg:20240528T080000
DTEND;TZID=America/Winnipeg:20240528T160000
DTSTAMP:20260419T231941
CREATED:20240229T173114Z
LAST-MODIFIED:20240229T173114Z
UID:6024-1716883200-1716912000@www.mbschoolboards.ca
SUMMARY:Manitoba School Leadership Framework Conference
DESCRIPTION:Through presentations and workshops\, various components of the Framework will be explored\, building system cohesion through shared understandings of evidence-based knowledge\, skills and behaviours of effective school leadership. \n 
URL:https://www.mbschoolboards.ca/event/manitoba-school-leadership-framework-conference/
LOCATION:Delta Hotel\, Winnipeg\, 350 St. Mary Avenue\, Winnipeg\, Manitoba\, R3C 3J2\, Canada
END:VEVENT
BEGIN:VEVENT
DTSTART;VALUE=DATE:20240520
DTEND;VALUE=DATE:20240521
DTSTAMP:20260419T231941
CREATED:20230613T133900Z
LAST-MODIFIED:20230613T133900Z
UID:4913-1716163200-1716249599@www.mbschoolboards.ca
SUMMARY:Victoria Day
DESCRIPTION:
URL:https://www.mbschoolboards.ca/event/victoria-day-3/
LOCATION:Manitoba
CATEGORIES:Holidays/Office Closed
END:VEVENT
BEGIN:VEVENT
DTSTART;TZID=America/Winnipeg:20240516T080000
DTEND;TZID=America/Winnipeg:20240516T170000
DTSTAMP:20260419T231941
CREATED:20240305T143519Z
LAST-MODIFIED:20240305T143519Z
UID:6061-1715846400-1715878800@www.mbschoolboards.ca
SUMMARY:Annual Aboriginal Education Research Forum\, "Shawane Dagosiwin\,"
DESCRIPTION:The event will feature varied presentation streams\, spotlighting Indigenous knowledges\, wellness\, and educational insights\, fostering a comprehensive exploration of this year’s theme: “The Wisdom Journey: Linking Elders’ Stories with Youth Aspirations for an Active Tomorrow.”
URL:https://www.mbschoolboards.ca/event/annual-aboriginal-education-research-forum-shawane-dagosiwin-4/
LOCATION:RRC Polytech Winnipeg\, 2055 Notre Dame Avenue\, Winniepg\, Manitoba\, R3H 0J9\, Canada
CATEGORIES:Events
END:VEVENT
BEGIN:VEVENT
DTSTART;TZID=America/Winnipeg:20240515T080000
DTEND;TZID=America/Winnipeg:20240515T170000
DTSTAMP:20260419T231941
CREATED:20240305T143251Z
LAST-MODIFIED:20240305T144025Z
UID:6059-1715760000-1715792400@www.mbschoolboards.ca
SUMMARY:Annual Aboriginal Education Research Forum\, "Shawane Dagosiwin\,"
DESCRIPTION:The event will feature varied presentation streams\, spotlighting Indigenous knowledges\, wellness\, and educational insights\, fostering a comprehensive exploration of this year’s theme: “The Wisdom Journey: Linking Elders’ Stories with Youth Aspirations for an Active Tomorrow.”
URL:https://www.mbschoolboards.ca/event/annual-aboriginal-education-research-forum-shawane-dagosiwin-3/
LOCATION:RRC Polytech Winnipeg\, 2055 Notre Dame Avenue\, Winniepg\, Manitoba\, R3H 0J9\, Canada
CATEGORIES:Events
END:VEVENT
BEGIN:VEVENT
DTSTART;VALUE=DATE:20240507
DTEND;VALUE=DATE:20240508
DTSTAMP:20260419T231941
CREATED:20240502T133520Z
LAST-MODIFIED:20240502T133520Z
UID:6315-1715040000-1715126399@www.mbschoolboards.ca
SUMMARY:National Child & Youth Mental Health Day
DESCRIPTION:National Child & Youth Mental Health Day is about building caring connections between young people and the caring adults in their lives. We know having caring\, connected conversations can have a big impact on the mental health of children and youth.
URL:https://www.mbschoolboards.ca/event/national-child-youth-mental-health-day/
LOCATION:Manitoba
CATEGORIES:Events
END:VEVENT
BEGIN:VEVENT
DTSTART;TZID=America/Winnipeg:20240506T080000
DTEND;TZID=America/Winnipeg:20240506T110000
DTSTAMP:20260419T231941
CREATED:20240229T182831Z
LAST-MODIFIED:20240229T182900Z
UID:6035-1714982400-1714993200@www.mbschoolboards.ca
SUMMARY:Save the Date - MB Safety & Health Week Launch
DESCRIPTION:This year’s Manitoba launch of Safety & Health Week will take place on May 6\, 2024 from 8 to 11 a.m. at the Canadian Museum for Human Rights with a special lineup of keynote speakers and dignitaries. The event will feature a presentation by Wendy Hofford\, as well as guest speaker Joe Paulich who will share his story of resilience and the importance of safe workplaces.
URL:https://www.mbschoolboards.ca/event/save-the-date-mb-safety-health-week-launch/
LOCATION:Candian Museum for Human Rights\, 85 Israel Asper way\, Winnipeg\, Manitoba\, R3C 0L5\, Canada
CATEGORIES:Events
END:VEVENT
BEGIN:VEVENT
DTSTART;VALUE=DATE:20240506
DTEND;VALUE=DATE:20240507
DTSTAMP:20260419T231941
CREATED:20240229T182326Z
LAST-MODIFIED:20240229T182326Z
UID:6033-1714953600-1715039999@www.mbschoolboards.ca
SUMMARY:Safety & Health Week | May 6-11
DESCRIPTION:Mark your calendars for the 2024 Manitoba Safety and Health Week launch\, an annual occupational health and safety celebration led by the Manitoba Safety and Health Week Planning Committee. The week is an excellent opportunity to focus\, reinforce and strengthen your organization’s commitment to workplace safety and health.
URL:https://www.mbschoolboards.ca/event/safety-health-week-may-6-11/
LOCATION:Manitoba
CATEGORIES:Events
END:VEVENT
BEGIN:VEVENT
DTSTART;VALUE=DATE:20240401
DTEND;VALUE=DATE:20240402
DTSTAMP:20260419T231941
CREATED:20230613T135336Z
LAST-MODIFIED:20230613T135336Z
UID:4923-1711929600-1712015999@www.mbschoolboards.ca
SUMMARY:Easter Monday
DESCRIPTION:
URL:https://www.mbschoolboards.ca/event/easter-monday-2/
LOCATION:Manitoba
CATEGORIES:Holidays/Office Closed
END:VEVENT
BEGIN:VEVENT
DTSTART;VALUE=DATE:20240329
DTEND;VALUE=DATE:20240330
DTSTAMP:20260419T231941
CREATED:20230613T133827Z
LAST-MODIFIED:20230613T133827Z
UID:4911-1711670400-1711756799@www.mbschoolboards.ca
SUMMARY:Good Friday
DESCRIPTION:
URL:https://www.mbschoolboards.ca/event/good-friday-3/
LOCATION:Manitoba
CATEGORIES:Holidays/Office Closed
END:VEVENT
BEGIN:VEVENT
DTSTART;VALUE=DATE:20240325
DTEND;VALUE=DATE:20240326
DTSTAMP:20260419T231941
CREATED:20230613T133740Z
LAST-MODIFIED:20230613T133740Z
UID:4909-1711324800-1711411199@www.mbschoolboards.ca
SUMMARY:Spring Break Starts
DESCRIPTION:Spring break:  Monday\, March 25 to Friday\, March 29\, 2024.
URL:https://www.mbschoolboards.ca/event/spring-break-starts/
LOCATION:Manitoba
CATEGORIES:Events
END:VEVENT
BEGIN:VEVENT
DTSTART;VALUE=DATE:20220531
DTEND;VALUE=DATE:20220601
DTSTAMP:20260419T231941
CREATED:20220404T154005Z
LAST-MODIFIED:20220404T154952Z
UID:2182-1653955200-1654041599@www.mbschoolboards.ca
SUMMARY:World No Tobacco Day
DESCRIPTION:The 2022 global campaign for World No Tobacco Day is “Tobacco: Threat to our environment.”  The campaign is aimed to raise awareness among the public on the environmental impact of tobacco – from cultivation\, production\, distribution and waste. It will give tobacco users one extra reason to quit. \nThe campaign will also aim to expose tobacco industry’s effort to “greenwash” its reputation and products by marketing themselves as environmentally friendly.
URL:https://www.mbschoolboards.ca/event/world-no-tobacco-day/
LOCATION:Manitoba
CATEGORIES:Events
END:VEVENT
BEGIN:VEVENT
DTSTART;VALUE=DATE:20220523
DTEND;VALUE=DATE:20220524
DTSTAMP:20260419T231941
CREATED:20220302T182709Z
LAST-MODIFIED:20220302T182709Z
UID:1045-1653264000-1653350399@www.mbschoolboards.ca
SUMMARY:Victoria Day
DESCRIPTION:
URL:https://www.mbschoolboards.ca/event/victoria-day/
LOCATION:Manitoba
CATEGORIES:Holidays/Office Closed
END:VEVENT
BEGIN:VEVENT
DTSTART;VALUE=DATE:20220415
DTEND;VALUE=DATE:20220416
DTSTAMP:20260419T231941
CREATED:20220302T182559Z
LAST-MODIFIED:20220302T182559Z
UID:1041-1649980800-1650067199@www.mbschoolboards.ca
SUMMARY:Good Friday
DESCRIPTION:
URL:https://www.mbschoolboards.ca/event/good-friday/
LOCATION:Manitoba
CATEGORIES:Holidays/Office Closed
END:VEVENT
BEGIN:VEVENT
DTSTART;VALUE=DATE:20220401
DTEND;VALUE=DATE:20220402
DTSTAMP:20260419T231941
CREATED:20220302T182508Z
LAST-MODIFIED:20220302T182508Z
UID:1038-1648771200-1648857599@www.mbschoolboards.ca
SUMMARY:Spring Break
DESCRIPTION:Location: Province-wide \nUntil Friday\, Apr 1\, 2022
URL:https://www.mbschoolboards.ca/event/spring-break-5/
LOCATION:Manitoba
CATEGORIES:Holidays/Office Closed
END:VEVENT
BEGIN:VEVENT
DTSTART;VALUE=DATE:20220331
DTEND;VALUE=DATE:20220401
DTSTAMP:20260419T231941
CREATED:20220302T182449Z
LAST-MODIFIED:20220302T182449Z
UID:1035-1648684800-1648771199@www.mbschoolboards.ca
SUMMARY:Spring Break
DESCRIPTION:Location: Province-wide \nUntil Friday\, Apr 1\, 2022
URL:https://www.mbschoolboards.ca/event/spring-break-4/
LOCATION:Manitoba
CATEGORIES:Holidays/Office Closed
END:VEVENT
END:VCALENDAR