BEGIN:VCALENDAR
VERSION:2.0
PRODID:-//Manitoba School Boards Association - ECPv6.15.20//NONSGML v1.0//EN
CALSCALE:GREGORIAN
METHOD:PUBLISH
X-WR-CALNAME:Manitoba School Boards Association
X-ORIGINAL-URL:https://www.mbschoolboards.ca
X-WR-CALDESC:Events for Manitoba School Boards Association
REFRESH-INTERVAL;VALUE=DURATION:PT1H
X-Robots-Tag:noindex
X-PUBLISHED-TTL:PT1H
BEGIN:VTIMEZONE
TZID:America/Winnipeg
BEGIN:DAYLIGHT
TZOFFSETFROM:-0600
TZOFFSETTO:-0500
TZNAME:CDT
DTSTART:20250309T080000
END:DAYLIGHT
BEGIN:STANDARD
TZOFFSETFROM:-0500
TZOFFSETTO:-0600
TZNAME:CST
DTSTART:20251102T070000
END:STANDARD
BEGIN:DAYLIGHT
TZOFFSETFROM:-0600
TZOFFSETTO:-0500
TZNAME:CDT
DTSTART:20260308T080000
END:DAYLIGHT
BEGIN:STANDARD
TZOFFSETFROM:-0500
TZOFFSETTO:-0600
TZNAME:CST
DTSTART:20261101T070000
END:STANDARD
BEGIN:DAYLIGHT
TZOFFSETFROM:-0600
TZOFFSETTO:-0500
TZNAME:CDT
DTSTART:20270314T080000
END:DAYLIGHT
BEGIN:STANDARD
TZOFFSETFROM:-0500
TZOFFSETTO:-0600
TZNAME:CST
DTSTART:20271107T070000
END:STANDARD
BEGIN:DAYLIGHT
TZOFFSETFROM:-0600
TZOFFSETTO:-0500
TZNAME:CDT
DTSTART:20280312T080000
END:DAYLIGHT
BEGIN:STANDARD
TZOFFSETFROM:-0500
TZOFFSETTO:-0600
TZNAME:CST
DTSTART:20281105T070000
END:STANDARD
END:VTIMEZONE
BEGIN:VEVENT
DTSTART;VALUE=DATE:20260524
DTEND;VALUE=DATE:20260525
DTSTAMP:20260423T065410
CREATED:20260113T200018Z
LAST-MODIFIED:20260113T213245Z
UID:10846-1779580800-1779667199@www.mbschoolboards.ca
SUMMARY:Victoria Day
DESCRIPTION:
URL:https://www.mbschoolboards.ca/event/victoria-day-2/
CATEGORIES:Holidays/Office Closed
END:VEVENT
BEGIN:VEVENT
DTSTART;VALUE=DATE:20260701
DTEND;VALUE=DATE:20260702
DTSTAMP:20260423T065410
CREATED:20260113T200713Z
LAST-MODIFIED:20260113T213156Z
UID:10856-1782864000-1782950399@www.mbschoolboards.ca
SUMMARY:Canada Day
DESCRIPTION:
URL:https://www.mbschoolboards.ca/event/canada-day-2/
CATEGORIES:Holidays/Office Closed
END:VEVENT
BEGIN:VEVENT
DTSTART;VALUE=DATE:20260803
DTEND;VALUE=DATE:20260804
DTSTAMP:20260423T065410
CREATED:20260113T201216Z
LAST-MODIFIED:20260113T213141Z
UID:10867-1785715200-1785801599@www.mbschoolboards.ca
SUMMARY:Terry Fox Day
DESCRIPTION:
URL:https://www.mbschoolboards.ca/event/terry-fox-day-2/
CATEGORIES:Holidays/Office Closed
END:VEVENT
BEGIN:VEVENT
DTSTART;VALUE=DATE:20260907
DTEND;VALUE=DATE:20260908
DTSTAMP:20260423T065410
CREATED:20260113T202326Z
LAST-MODIFIED:20260113T213125Z
UID:10882-1788739200-1788825599@www.mbschoolboards.ca
SUMMARY:Labour Day
DESCRIPTION:
URL:https://www.mbschoolboards.ca/event/labour-day-2/
CATEGORIES:Holidays/Office Closed
END:VEVENT
BEGIN:VEVENT
DTSTART;VALUE=DATE:20260930
DTEND;VALUE=DATE:20261001
DTSTAMP:20260423T065410
CREATED:20260113T200841Z
LAST-MODIFIED:20260113T213103Z
UID:10858-1790726400-1790812799@www.mbschoolboards.ca
SUMMARY:National Day for Truth and Reconciliation
DESCRIPTION:
URL:https://www.mbschoolboards.ca/event/national-day-for-truth-and-reconciliation/
CATEGORIES:Holidays/Office Closed
END:VEVENT
BEGIN:VEVENT
DTSTART;VALUE=DATE:20261012
DTEND;VALUE=DATE:20261013
DTSTAMP:20260423T065410
CREATED:20260113T202802Z
LAST-MODIFIED:20260113T213034Z
UID:10890-1791763200-1791849599@www.mbschoolboards.ca
SUMMARY:Thanksgiving
DESCRIPTION:
URL:https://www.mbschoolboards.ca/event/thanksgiving-2/
CATEGORIES:Holidays/Office Closed
END:VEVENT
BEGIN:VEVENT
DTSTART;VALUE=DATE:20261111
DTEND;VALUE=DATE:20261112
DTSTAMP:20260423T065410
CREATED:20260113T201030Z
LAST-MODIFIED:20260113T212926Z
UID:10863-1794355200-1794441599@www.mbschoolboards.ca
SUMMARY:Remembrance Day
DESCRIPTION:
URL:https://www.mbschoolboards.ca/event/remembrance-day-3/
CATEGORIES:Holidays/Office Closed
END:VEVENT
BEGIN:VEVENT
DTSTART;VALUE=DATE:20261224
DTEND;VALUE=DATE:20270102
DTSTAMP:20260423T065410
CREATED:20260113T202040Z
LAST-MODIFIED:20260113T212902Z
UID:10880-1798070400-1798847999@www.mbschoolboards.ca
SUMMARY:MSBA Office Closure
DESCRIPTION:
URL:https://www.mbschoolboards.ca/event/msba-office-closure/
CATEGORIES:Holidays/Office Closed
END:VEVENT
BEGIN:VEVENT
DTSTART;VALUE=DATE:20261225
DTEND;VALUE=DATE:20261226
DTSTAMP:20260423T065410
CREATED:20260113T201858Z
LAST-MODIFIED:20260113T212852Z
UID:10876-1798156800-1798243199@www.mbschoolboards.ca
SUMMARY:Christmas Day
DESCRIPTION:
URL:https://www.mbschoolboards.ca/event/christmas-day-2/
CATEGORIES:Holidays/Office Closed
END:VEVENT
BEGIN:VEVENT
DTSTART;VALUE=DATE:20261226
DTEND;VALUE=DATE:20261227
DTSTAMP:20260423T065410
CREATED:20260113T213811Z
LAST-MODIFIED:20260113T213811Z
UID:10916-1798243200-1798329599@www.mbschoolboards.ca
SUMMARY:Boxing Day
DESCRIPTION:
URL:https://www.mbschoolboards.ca/event/boxing-day-2/
CATEGORIES:Holidays/Office Closed
END:VEVENT
BEGIN:VEVENT
DTSTART;VALUE=DATE:20270101
DTEND;VALUE=DATE:20270102
DTSTAMP:20260423T065410
CREATED:20260113T201942Z
LAST-MODIFIED:20260113T212832Z
UID:10878-1798761600-1798847999@www.mbschoolboards.ca
SUMMARY:New Year's Day
DESCRIPTION:
URL:https://www.mbschoolboards.ca/event/new-years-day-3/
CATEGORIES:Holidays/Office Closed
END:VEVENT
END:VCALENDAR